{ "documentInfo": { "Category": "", "Keywords": "Chatham,County,Light,Gray,Basemap", "Version": "2.9.0", "Comments": "
The Chatham County light gray basemap supports a variety of web applications created by Chatham County GIS. The main purpose of the basemap is to provide a detailed base layer for rapid deployment of web applications throughout the Chatham County enterprise GIS system. Specifically, the light gray basemap provides road and hydrology information as well as some basic landmark data such as parks and building footprints.<\/SPAN><\/P><\/DIV><\/DIV><\/DIV>",
"AntialiasingMode": "Fast",
"Title": "Chatham - Light Gray Basemap",
"Author": "",
"TextAntialiasingMode": "Force",
"Subject": "The Chatham County light gray basemap supports a variety of web applications created by Chatham County GIS."
},
"maxImageWidth": 4096,
"wmtsScaleFactor": 0.00091863333333344881,
"maxRecordCount": 2000,
"tileInfo": {
"lods": [
{
"level": 0,
"scale": 325000,
"resolution": 282.11805555555554
},
{
"level": 1,
"scale": 153600,
"resolution": 133.33333333333331
},
{
"level": 2,
"scale": 76800,
"resolution": 66.666666666666657
},
{
"level": 3,
"scale": 38400,
"resolution": 33.333333333333329
},
{
"level": 4,
"scale": 19200,
"resolution": 16.666666666666664
},
{
"level": 5,
"scale": 9600,
"resolution": 8.3333333333333321
},
{
"level": 6,
"scale": 4800,
"resolution": 4.1666666666666661
},
{
"level": 7,
"scale": 2400,
"resolution": 2.083333333333333
},
{
"level": 8,
"scale": 1200,
"resolution": 1.0416666666666665
},
{
"level": 9,
"scale": 600,
"resolution": 0.52083333333333326
}
],
"origin": {
"x": -121841900,
"y": 154024800
},
"format": "JPEG",
"compressionQuality": 75,
"rows": 256,
"dpi": 96,
"spatialReference": {
"falseM": -100000,
"xyTolerance": 0.0032808333333333331,
"mUnits": 10000,
"zUnits": 10000,
"latestWkid": 2264,
"zTolerance": 0.001,
"wkid": 102719,
"xyUnits": 36365718.124241434,
"mTolerance": 0.001,
"falseX": -121841900,
"falseY": -93659000,
"falseZ": -100000
},
"cols": 256
},
"description": " The Chatham County light gray basemap supports a variety of web applications created by Chatham County GIS. The main purpose of the basemap is to provide a detailed base layer for rapid deployment of web applications throughout the Chatham County enterprise GIS system. Specifically, the light gray basemap provides road and hydrology information as well as some basic landmark data such as parks and building footprints.<\/SPAN><\/P><\/DIV><\/DIV><\/DIV>",
"datesInUnknownTimezone": false,
"supportsQueryDomains": true,
"units": "esriFeet",
"maxSelectionCount": 2000,
"supportedImageFormatTypes": "PNG32,PNG24,PNG,JPG,DIB,TIFF,EMF,PS,PDF,GIF,SVG,SVGZ,BMP",
"supportsClipping": true,
"exportTilesAllowed": false,
"maxImageHeight": 4096,
"tables": [],
"hasVersionedData": false,
"supportsDatumTransformation": true,
"cimVersion": "3.7.0",
"supportsQueryDataElements": true,
"layers": [
{
"subLayerIds": [
1,
2,
3,
4,
5,
6,
7,
8,
58
],
"maxScale": 0,
"name": "4.5K",
"defaultVisibility": true,
"id": 0,
"minScale": 5000,
"supportsDynamicLegends": false,
"type": "Group Layer",
"parentLayerId": -1
},
{
"subLayerIds": null,
"maxScale": 0,
"name": "Facility Site Points",
"defaultVisibility": true,
"id": 1,
"minScale": 0,
"supportsDynamicLegends": true,
"type": "Feature Layer",
"parentLayerId": 0,
"geometryType": "esriGeometryPoint"
},
{
"subLayerIds": null,
"maxScale": 0,
"name": "Railroads",
"defaultVisibility": true,
"id": 2,
"minScale": 0,
"supportsDynamicLegends": true,
"type": "Feature Layer",
"parentLayerId": 0,
"geometryType": "esriGeometryPolyline"
},
{
"subLayerIds": null,
"maxScale": 0,
"name": "Roads",
"defaultVisibility": true,
"id": 3,
"minScale": 0,
"supportsDynamicLegends": true,
"type": "Feature Layer",
"parentLayerId": 0,
"geometryType": "esriGeometryPolyline"
},
{
"subLayerIds": null,
"maxScale": 0,
"name": "Building Footprints",
"defaultVisibility": true,
"id": 4,
"minScale": 0,
"supportsDynamicLegends": true,
"type": "Feature Layer",
"parentLayerId": 0,
"geometryType": "esriGeometryPolygon"
},
{
"subLayerIds": null,
"maxScale": 0,
"name": "County Boundaries",
"defaultVisibility": true,
"id": 5,
"minScale": 0,
"supportsDynamicLegends": true,
"type": "Feature Layer",
"parentLayerId": 0,
"geometryType": "esriGeometryPolygon"
},
{
"subLayerIds": null,
"maxScale": 0,
"name": "Waterlines",
"defaultVisibility": true,
"id": 6,
"minScale": 0,
"supportsDynamicLegends": true,
"type": "Feature Layer",
"parentLayerId": 0,
"geometryType": "esriGeometryPolyline"
},
{
"subLayerIds": null,
"maxScale": 0,
"name": "Waterbodies",
"defaultVisibility": true,
"id": 7,
"minScale": 0,
"supportsDynamicLegends": true,
"type": "Feature Layer",
"parentLayerId": 0,
"geometryType": "esriGeometryPolygon"
},
{
"subLayerIds": null,
"maxScale": 0,
"name": "Facility Site Parks",
"defaultVisibility": true,
"id": 8,
"minScale": 0,
"supportsDynamicLegends": true,
"type": "Feature Layer",
"parentLayerId": 0,
"geometryType": "esriGeometryPolygon"
},
{
"subLayerIds": null,
"maxScale": 0,
"name": "Facility Site Megasites",
"defaultVisibility": true,
"id": 58,
"minScale": 0,
"supportsDynamicLegends": true,
"type": "Feature Layer",
"parentLayerId": 0,
"geometryType": "esriGeometryPolygon"
},
{
"subLayerIds": [
10,
11,
12,
13,
14,
15,
16,
17,
57
],
"maxScale": 5001,
"name": "9K",
"defaultVisibility": true,
"id": 9,
"minScale": 15000,
"supportsDynamicLegends": false,
"type": "Group Layer",
"parentLayerId": -1
},
{
"subLayerIds": null,
"maxScale": 0,
"name": "Facility Site Points",
"defaultVisibility": true,
"id": 10,
"minScale": 0,
"supportsDynamicLegends": true,
"type": "Feature Layer",
"parentLayerId": 9,
"geometryType": "esriGeometryPoint"
},
{
"subLayerIds": null,
"maxScale": 0,
"name": "Railroads",
"defaultVisibility": true,
"id": 11,
"minScale": 0,
"supportsDynamicLegends": true,
"type": "Feature Layer",
"parentLayerId": 9,
"geometryType": "esriGeometryPolyline"
},
{
"subLayerIds": null,
"maxScale": 0,
"name": "Roads",
"defaultVisibility": true,
"id": 12,
"minScale": 0,
"supportsDynamicLegends": true,
"type": "Feature Layer",
"parentLayerId": 9,
"geometryType": "esriGeometryPolyline"
},
{
"subLayerIds": null,
"maxScale": 0,
"name": "Building Footprints",
"defaultVisibility": true,
"id": 13,
"minScale": 0,
"supportsDynamicLegends": true,
"type": "Feature Layer",
"parentLayerId": 9,
"geometryType": "esriGeometryPolygon"
},
{
"subLayerIds": null,
"maxScale": 0,
"name": "County Boundaries",
"defaultVisibility": true,
"id": 14,
"minScale": 0,
"supportsDynamicLegends": true,
"type": "Feature Layer",
"parentLayerId": 9,
"geometryType": "esriGeometryPolygon"
},
{
"subLayerIds": null,
"maxScale": 0,
"name": "Waterlines",
"defaultVisibility": true,
"id": 15,
"minScale": 0,
"supportsDynamicLegends": true,
"type": "Feature Layer",
"parentLayerId": 9,
"geometryType": "esriGeometryPolyline"
},
{
"subLayerIds": null,
"maxScale": 0,
"name": "Waterbodies",
"defaultVisibility": true,
"id": 16,
"minScale": 0,
"supportsDynamicLegends": true,
"type": "Feature Layer",
"parentLayerId": 9,
"geometryType": "esriGeometryPolygon"
},
{
"subLayerIds": null,
"maxScale": 0,
"name": "Facility Site Parks",
"defaultVisibility": true,
"id": 17,
"minScale": 0,
"supportsDynamicLegends": true,
"type": "Feature Layer",
"parentLayerId": 9,
"geometryType": "esriGeometryPolygon"
},
{
"subLayerIds": null,
"maxScale": 0,
"name": "Facility Site Megasites",
"defaultVisibility": true,
"id": 57,
"minScale": 0,
"supportsDynamicLegends": true,
"type": "Feature Layer",
"parentLayerId": 9,
"geometryType": "esriGeometryPolygon"
},
{
"subLayerIds": [
19,
20,
21,
22,
23,
24,
25,
26,
56
],
"maxScale": 15001,
"name": "18K",
"defaultVisibility": true,
"id": 18,
"minScale": 25000,
"supportsDynamicLegends": false,
"type": "Group Layer",
"parentLayerId": -1
},
{
"subLayerIds": null,
"maxScale": 0,
"name": "Facility Site Points",
"defaultVisibility": true,
"id": 19,
"minScale": 0,
"supportsDynamicLegends": true,
"type": "Feature Layer",
"parentLayerId": 18,
"geometryType": "esriGeometryPoint"
},
{
"subLayerIds": null,
"maxScale": 0,
"name": "Railroads",
"defaultVisibility": true,
"id": 20,
"minScale": 0,
"supportsDynamicLegends": true,
"type": "Feature Layer",
"parentLayerId": 18,
"geometryType": "esriGeometryPolyline"
},
{
"subLayerIds": null,
"maxScale": 0,
"name": "Roads",
"defaultVisibility": true,
"id": 21,
"minScale": 0,
"supportsDynamicLegends": true,
"type": "Feature Layer",
"parentLayerId": 18,
"geometryType": "esriGeometryPolyline"
},
{
"subLayerIds": null,
"maxScale": 0,
"name": "Building Footprints",
"defaultVisibility": true,
"id": 22,
"minScale": 0,
"supportsDynamicLegends": true,
"type": "Feature Layer",
"parentLayerId": 18,
"geometryType": "esriGeometryPolygon"
},
{
"subLayerIds": null,
"maxScale": 0,
"name": "County Boundaries",
"defaultVisibility": true,
"id": 23,
"minScale": 0,
"supportsDynamicLegends": true,
"type": "Feature Layer",
"parentLayerId": 18,
"geometryType": "esriGeometryPolygon"
},
{
"subLayerIds": null,
"maxScale": 0,
"name": "Waterlines",
"defaultVisibility": true,
"id": 24,
"minScale": 0,
"supportsDynamicLegends": true,
"type": "Feature Layer",
"parentLayerId": 18,
"geometryType": "esriGeometryPolyline"
},
{
"subLayerIds": null,
"maxScale": 0,
"name": "Waterbodies",
"defaultVisibility": true,
"id": 25,
"minScale": 0,
"supportsDynamicLegends": true,
"type": "Feature Layer",
"parentLayerId": 18,
"geometryType": "esriGeometryPolygon"
},
{
"subLayerIds": null,
"maxScale": 0,
"name": "Facility Site Parks",
"defaultVisibility": true,
"id": 26,
"minScale": 0,
"supportsDynamicLegends": true,
"type": "Feature Layer",
"parentLayerId": 18,
"geometryType": "esriGeometryPolygon"
},
{
"subLayerIds": null,
"maxScale": 0,
"name": "Facility Site Megasites",
"defaultVisibility": true,
"id": 56,
"minScale": 0,
"supportsDynamicLegends": true,
"type": "Feature Layer",
"parentLayerId": 18,
"geometryType": "esriGeometryPolygon"
},
{
"subLayerIds": [
28,
29,
30,
31,
32,
33,
34,
55
],
"maxScale": 25001,
"name": "36K",
"defaultVisibility": true,
"id": 27,
"minScale": 50000,
"supportsDynamicLegends": false,
"type": "Group Layer",
"parentLayerId": -1
},
{
"subLayerIds": null,
"maxScale": 0,
"name": "Railroads",
"defaultVisibility": true,
"id": 28,
"minScale": 0,
"supportsDynamicLegends": true,
"type": "Feature Layer",
"parentLayerId": 27,
"geometryType": "esriGeometryPolyline"
},
{
"subLayerIds": null,
"maxScale": 0,
"name": "Roads",
"defaultVisibility": true,
"id": 29,
"minScale": 0,
"supportsDynamicLegends": true,
"type": "Feature Layer",
"parentLayerId": 27,
"geometryType": "esriGeometryPolyline"
},
{
"subLayerIds": null,
"maxScale": 0,
"name": "Building Footprints",
"defaultVisibility": true,
"id": 30,
"minScale": 0,
"supportsDynamicLegends": true,
"type": "Feature Layer",
"parentLayerId": 27,
"geometryType": "esriGeometryPolygon"
},
{
"subLayerIds": null,
"maxScale": 0,
"name": "County Boundaries",
"defaultVisibility": true,
"id": 31,
"minScale": 0,
"supportsDynamicLegends": true,
"type": "Feature Layer",
"parentLayerId": 27,
"geometryType": "esriGeometryPolygon"
},
{
"subLayerIds": null,
"maxScale": 0,
"name": "Waterlines",
"defaultVisibility": true,
"id": 32,
"minScale": 0,
"supportsDynamicLegends": true,
"type": "Feature Layer",
"parentLayerId": 27,
"geometryType": "esriGeometryPolyline"
},
{
"subLayerIds": null,
"maxScale": 0,
"name": "Waterbodies",
"defaultVisibility": true,
"id": 33,
"minScale": 0,
"supportsDynamicLegends": true,
"type": "Feature Layer",
"parentLayerId": 27,
"geometryType": "esriGeometryPolygon"
},
{
"subLayerIds": null,
"maxScale": 0,
"name": "Facility Site Parks",
"defaultVisibility": true,
"id": 34,
"minScale": 0,
"supportsDynamicLegends": true,
"type": "Feature Layer",
"parentLayerId": 27,
"geometryType": "esriGeometryPolygon"
},
{
"subLayerIds": null,
"maxScale": 0,
"name": "Facility Site Megasites",
"defaultVisibility": true,
"id": 55,
"minScale": 0,
"supportsDynamicLegends": true,
"type": "Feature Layer",
"parentLayerId": 27,
"geometryType": "esriGeometryPolygon"
},
{
"subLayerIds": [
36,
37,
38,
39,
40,
41,
54
],
"maxScale": 50001,
"name": "72K",
"defaultVisibility": true,
"id": 35,
"minScale": 100000,
"supportsDynamicLegends": false,
"type": "Group Layer",
"parentLayerId": -1
},
{
"subLayerIds": null,
"maxScale": 0,
"name": "Roads",
"defaultVisibility": true,
"id": 36,
"minScale": 0,
"supportsDynamicLegends": true,
"type": "Feature Layer",
"parentLayerId": 35,
"geometryType": "esriGeometryPolyline"
},
{
"subLayerIds": null,
"maxScale": 0,
"name": "Railroads",
"defaultVisibility": true,
"id": 37,
"minScale": 0,
"supportsDynamicLegends": true,
"type": "Feature Layer",
"parentLayerId": 35,
"geometryType": "esriGeometryPolyline"
},
{
"subLayerIds": null,
"maxScale": 0,
"name": "County Boundaries",
"defaultVisibility": true,
"id": 38,
"minScale": 0,
"supportsDynamicLegends": true,
"type": "Feature Layer",
"parentLayerId": 35,
"geometryType": "esriGeometryPolygon"
},
{
"subLayerIds": null,
"maxScale": 0,
"name": "Waterlines",
"defaultVisibility": true,
"id": 39,
"minScale": 0,
"supportsDynamicLegends": true,
"type": "Feature Layer",
"parentLayerId": 35,
"geometryType": "esriGeometryPolyline"
},
{
"subLayerIds": null,
"maxScale": 0,
"name": "Waterbodies",
"defaultVisibility": true,
"id": 40,
"minScale": 0,
"supportsDynamicLegends": true,
"type": "Feature Layer",
"parentLayerId": 35,
"geometryType": "esriGeometryPolygon"
},
{
"subLayerIds": null,
"maxScale": 0,
"name": "Urban Areas",
"defaultVisibility": true,
"id": 41,
"minScale": 0,
"supportsDynamicLegends": true,
"type": "Feature Layer",
"parentLayerId": 35,
"geometryType": "esriGeometryPolygon"
},
{
"subLayerIds": null,
"maxScale": 0,
"name": "Facility Site Megasites",
"defaultVisibility": true,
"id": 54,
"minScale": 0,
"supportsDynamicLegends": true,
"type": "Feature Layer",
"parentLayerId": 35,
"geometryType": "esriGeometryPolygon"
},
{
"subLayerIds": [
43,
44,
45,
46,
47
],
"maxScale": 100001,
"name": "144K",
"defaultVisibility": true,
"id": 42,
"minScale": 250000,
"supportsDynamicLegends": false,
"type": "Group Layer",
"parentLayerId": -1
},
{
"subLayerIds": null,
"maxScale": 0,
"name": "Roads",
"defaultVisibility": true,
"id": 43,
"minScale": 0,
"supportsDynamicLegends": true,
"type": "Feature Layer",
"parentLayerId": 42,
"geometryType": "esriGeometryPolyline"
},
{
"subLayerIds": null,
"maxScale": 0,
"name": "County Boundaries",
"defaultVisibility": true,
"id": 44,
"minScale": 0,
"supportsDynamicLegends": true,
"type": "Feature Layer",
"parentLayerId": 42,
"geometryType": "esriGeometryPolygon"
},
{
"subLayerIds": null,
"maxScale": 0,
"name": "Waterlines",
"defaultVisibility": true,
"id": 45,
"minScale": 0,
"supportsDynamicLegends": true,
"type": "Feature Layer",
"parentLayerId": 42,
"geometryType": "esriGeometryPolyline"
},
{
"subLayerIds": null,
"maxScale": 0,
"name": "Waterbodies",
"defaultVisibility": true,
"id": 46,
"minScale": 0,
"supportsDynamicLegends": true,
"type": "Feature Layer",
"parentLayerId": 42,
"geometryType": "esriGeometryPolygon"
},
{
"subLayerIds": null,
"maxScale": 0,
"name": "Urban Areas",
"defaultVisibility": true,
"id": 47,
"minScale": 0,
"supportsDynamicLegends": true,
"type": "Feature Layer",
"parentLayerId": 42,
"geometryType": "esriGeometryPolygon"
},
{
"subLayerIds": [
49,
50,
51,
52
],
"maxScale": 250001,
"name": "325K",
"defaultVisibility": true,
"id": 48,
"minScale": 400000,
"supportsDynamicLegends": false,
"type": "Group Layer",
"parentLayerId": -1
},
{
"subLayerIds": null,
"maxScale": 0,
"name": "Roads",
"defaultVisibility": true,
"id": 49,
"minScale": 0,
"supportsDynamicLegends": true,
"type": "Feature Layer",
"parentLayerId": 48,
"geometryType": "esriGeometryPolyline"
},
{
"subLayerIds": null,
"maxScale": 0,
"name": "County Boundaries",
"defaultVisibility": true,
"id": 50,
"minScale": 0,
"supportsDynamicLegends": true,
"type": "Feature Layer",
"parentLayerId": 48,
"geometryType": "esriGeometryPolygon"
},
{
"subLayerIds": null,
"maxScale": 0,
"name": "Waterbodies",
"defaultVisibility": true,
"id": 51,
"minScale": 0,
"supportsDynamicLegends": true,
"type": "Feature Layer",
"parentLayerId": 48,
"geometryType": "esriGeometryPolygon"
},
{
"subLayerIds": null,
"maxScale": 0,
"name": "Urban Areas",
"defaultVisibility": true,
"id": 52,
"minScale": 0,
"supportsDynamicLegends": true,
"type": "Feature Layer",
"parentLayerId": 48,
"geometryType": "esriGeometryPolygon"
},
{
"subLayerIds": null,
"maxScale": 0,
"name": "Land Base",
"defaultVisibility": true,
"id": 53,
"minScale": 400000,
"supportsDynamicLegends": true,
"type": "Feature Layer",
"parentLayerId": -1,
"geometryType": "esriGeometryPolygon"
}
],
"mapName": "Light Gray",
"minScale": 325000,
"archivingInfo": {"supportsHistoricMoment": false},
"spatialReference": {
"falseM": -100000,
"xyTolerance": 0.0032808333333333331,
"mUnits": 10000,
"zUnits": 10000,
"latestWkid": 2264,
"zTolerance": 0.001,
"wkid": 102719,
"xyUnits": 36365718.124241434,
"mTolerance": 0.001,
"falseX": -121841900,
"falseY": -93659000,
"falseZ": -100000
},
"tileImageInfo": {
"bandCount": 1,
"lercError": 0,
"format": "JPEG",
"compressionQuality": 75
},
"fullExtent": {
"ymin": 605131.91047811683,
"xmin": 1792409.5812449071,
"ymax": 816677.80738293671,
"xmax": 2066336.3635174255,
"spatialReference": {
"falseM": -100000,
"xyTolerance": 0.0032808333333333331,
"mUnits": 10000,
"zUnits": 10000,
"latestWkid": 2264,
"zTolerance": 0.001,
"wkid": 102719,
"xyUnits": 36365718.124241434,
"mTolerance": 0.001,
"falseX": -121841900,
"falseY": -93659000,
"falseZ": -100000
}
},
"supportedExtensions": "",
"capabilities": "Map",
"supportsDynamicLayers": true,
"maxScale": 600,
"singleFusedMapCache": true,
"currentVersion": 12.1,
"storageInfo": {
"storageFormat": "esriMapCacheStorageModeCompactV2",
"packetSize": 128
},
"hasBranchVersionedData": false,
"mapUnits": {"uwkid": 9003},
"referenceScale": 0,
"supportsSpatialFilter": true,
"supportedQueryFormats": "JSON, geoJSON, PBF",
"datumTransformations": [
{"geoTransforms": [{
"latestWkid": 1241,
"transformForward": true,
"wkid": 108001,
"name": "NAD_1927_To_NAD_1983_NADCON"
}]},
{"geoTransforms": [{
"latestWkid": 1241,
"transformForward": false,
"wkid": 108001,
"name": "NAD_1927_To_NAD_1983_NADCON"
}]}
],
"initialExtent": {
"ymin": 590152.71922110522,
"xmin": 1750291.6155156016,
"ymax": 825895.11551383522,
"xmax": 2079795.192152031,
"spatialReference": {
"falseM": -100000,
"xyTolerance": 0.0032808333333333331,
"mUnits": 10000,
"zUnits": 10000,
"latestWkid": 2264,
"zTolerance": 0.001,
"wkid": 102719,
"xyUnits": 36365718.124241434,
"mTolerance": 0.001,
"falseX": -121841900,
"falseY": -93659000,
"falseZ": -100000
}
},
"serviceDescription": " The Chatham County light gray basemap supports a variety of web applications created by Chatham County GIS. The main purpose of the basemap is to provide a detailed base layer for rapid deployment of web applications throughout the Chatham County enterprise GIS system. Specifically, the light gray basemap provides road and hydrology information as well as some basic landmark data such as parks and building footprints.<\/SPAN><\/P><\/DIV><\/DIV><\/DIV>",
"copyrightText": "Chatham County, Chatham County GIS",
"supportsTimeRelation": true
}