{
 "documentInfo": {
  "Category": "",
  "Keywords": "Aerials,Imagery,Chatham,County,2013",
  "Version": "2.4.0",
  "Comments": "Cached basemap service displaying the Chatham County 2013 Aerial Imagery captured as part of the NC911 statewide imagery capture program.\n\nChatham GIS SOP: \"MAPSERV-130\"",
  "AntialiasingMode": "Fast",
  "Title": "Chatham - 2013 Aerial Photography",
  "Author": "",
  "TextAntialiasingMode": "Force",
  "Subject": "Cached basemap service displaying the Chatham County 2013 Aerial Imagery captured as part of the NC911 statewide imagery capture program."
 },
 "maxImageWidth": 4096,
 "wmtsScaleFactor": 0.00091863333333344881,
 "maxRecordCount": 2000,
 "tileInfo": {
  "lods": [
   {
    "level": 0,
    "scale": 325000,
    "resolution": 282.11805555555554
   },
   {
    "level": 1,
    "scale": 153600,
    "resolution": 133.33333333333331
   },
   {
    "level": 2,
    "scale": 76800,
    "resolution": 66.666666666666657
   },
   {
    "level": 3,
    "scale": 38400,
    "resolution": 33.333333333333329
   },
   {
    "level": 4,
    "scale": 19200,
    "resolution": 16.666666666666664
   },
   {
    "level": 5,
    "scale": 9600,
    "resolution": 8.3333333333333321
   },
   {
    "level": 6,
    "scale": 4800,
    "resolution": 4.1666666666666661
   },
   {
    "level": 7,
    "scale": 2400,
    "resolution": 2.083333333333333
   },
   {
    "level": 8,
    "scale": 1200,
    "resolution": 1.0416666666666665
   },
   {
    "level": 9,
    "scale": 600,
    "resolution": 0.52083333333333326
   }
  ],
  "origin": {
   "x": -121841900,
   "y": 154024800
  },
  "format": "JPEG",
  "compressionQuality": 75,
  "rows": 256,
  "dpi": 96,
  "spatialReference": {
   "falseM": -100000,
   "xyTolerance": 0.0032808333333333331,
   "mUnits": 10000,
   "zUnits": 10000,
   "latestWkid": 2264,
   "zTolerance": 0.001,
   "wkid": 102719,
   "xyUnits": 36365718.124241434,
   "mTolerance": 0.001,
   "falseX": -121841900,
   "falseY": -93659000,
   "falseZ": -100000
  },
  "cols": 256
 },
 "description": "Cached basemap service displaying the Chatham County 2013 Aerial Imagery captured as part of the NC911 statewide imagery capture program.\n\nChatham GIS SOP: \"MAPSERV-130\"",
 "datesInUnknownTimezone": false,
 "supportsQueryDomains": true,
 "units": "esriFeet",
 "maxSelectionCount": 2000,
 "supportedImageFormatTypes": "PNG32,PNG24,PNG,JPG,DIB,TIFF,EMF,PS,PDF,GIF,SVG,SVGZ,BMP",
 "supportsClipping": true,
 "exportTilesAllowed": false,
 "maxImageHeight": 4096,
 "tables": [],
 "hasVersionedData": false,
 "supportsDatumTransformation": true,
 "cimVersion": "3.7.0",
 "supportsQueryDataElements": true,
 "layers": [
  {
   "subLayerIds": null,
   "maxScale": 0,
   "name": "Chatham_2013.sid",
   "defaultVisibility": true,
   "id": 0,
   "minScale": 0,
   "supportsDynamicLegends": true,
   "type": "Raster Layer",
   "parentLayerId": -1
  }
 ],
 "mapName": "Chatham - 2013 Aerial Photography",
 "minScale": 325000,
 "archivingInfo": {
  "supportsHistoricMoment": false
 },
 "spatialReference": {
  "falseM": -100000,
  "xyTolerance": 0.0032808333333333331,
  "mUnits": 10000,
  "zUnits": 10000,
  "latestWkid": 2264,
  "zTolerance": 0.001,
  "wkid": 102719,
  "xyUnits": 36365718.124241434,
  "mTolerance": 0.001,
  "falseX": -121841900,
  "falseY": -93659000,
  "falseZ": -100000
 },
 "tileImageInfo": {
  "bandCount": 1,
  "lercError": 0,
  "format": "JPEG",
  "compressionQuality": 75
 },
 "fullExtent": {
  "ymin": 640000,
  "xmin": 1830000,
  "ymax": 775000,
  "xmax": 2030000,
  "spatialReference": {
   "falseM": -100000,
   "xyTolerance": 0.0032808333333333331,
   "mUnits": 10000,
   "zUnits": 10000,
   "latestWkid": 2264,
   "zTolerance": 0.001,
   "wkid": 102719,
   "xyUnits": 36365718.124241434,
   "mTolerance": 0.001,
   "falseX": -121841900,
   "falseY": -93659000,
   "falseZ": -100000
  }
 },
 "supportedExtensions": "",
 "capabilities": "Map,Query,Data",
 "supportsDynamicLayers": true,
 "maxScale": 600,
 "singleFusedMapCache": true,
 "currentVersion": 12.1,
 "storageInfo": {
  "storageFormat": "esriMapCacheStorageModeCompactV2",
  "packetSize": 128
 },
 "hasBranchVersionedData": false,
 "mapUnits": {
  "uwkid": 9003
 },
 "referenceScale": 0,
 "supportsSpatialFilter": true,
 "maxLOD": 9,
 "minLOD": 0,
 "supportedQueryFormats": "JSON, geoJSON, PBF",
 "datumTransformations": [
  {
   "geoTransforms": [
    {
     "latestWkid": 1241,
     "transformForward": true,
     "wkid": 108001,
     "name": "NAD_1927_To_NAD_1983_NADCON"
    }
   ]
  },
  {
   "geoTransforms": [
    {
     "latestWkid": 1241,
     "transformForward": false,
     "wkid": 108001,
     "name": "NAD_1927_To_NAD_1983_NADCON"
    }
   ]
  }
 ],
 "initialExtent": {
  "ymin": 633250,
  "xmin": 1841531.9148936169,
  "ymax": 781750,
  "xmax": 2018468.0851063831,
  "spatialReference": {
   "falseM": -100000,
   "xyTolerance": 0.0032808333333333331,
   "mUnits": 10000,
   "zUnits": 10000,
   "latestWkid": 2264,
   "zTolerance": 0.001,
   "wkid": 102719,
   "xyUnits": 36365718.124241434,
   "mTolerance": 0.001,
   "falseX": -121841900,
   "falseY": -93659000,
   "falseZ": -100000
  }
 },
 "serviceDescription": "Cached basemap service displaying the Chatham County 2013 Aerial Imagery captured as part of the NC911 statewide imagery capture program.\n\nChatham GIS SOP: \"MAPSERV-130\"",
 "copyrightText": "Chatham County GIS, NC911",
 "supportsTimeRelation": true
}
